BEGIN:VCALENDAR
VERSION:2.0
PRODID:-//Family Medicine Education Research - ECPv6.15.20//NONSGML v1.0//EN
CALSCALE:GREGORIAN
METHOD:PUBLISH
X-WR-CALNAME:Family Medicine Education Research
X-ORIGINAL-URL:https://fmer-remf.ca
X-WR-CALDESC:Events for Family Medicine Education Research
REFRESH-INTERVAL;VALUE=DURATION:PT1H
X-Robots-Tag:noindex
X-PUBLISHED-TTL:PT1H
BEGIN:VTIMEZONE
TZID:America/Toronto
BEGIN:DAYLIGHT
TZOFFSETFROM:-0500
TZOFFSETTO:-0400
TZNAME:EDT
DTSTART:20240310T070000
END:DAYLIGHT
BEGIN:STANDARD
TZOFFSETFROM:-0400
TZOFFSETTO:-0500
TZNAME:EST
DTSTART:20241103T060000
END:STANDARD
BEGIN:DAYLIGHT
TZOFFSETFROM:-0500
TZOFFSETTO:-0400
TZNAME:EDT
DTSTART:20250309T070000
END:DAYLIGHT
BEGIN:STANDARD
TZOFFSETFROM:-0400
TZOFFSETTO:-0500
TZNAME:EST
DTSTART:20251102T060000
END:STANDARD
BEGIN:DAYLIGHT
TZOFFSETFROM:-0500
TZOFFSETTO:-0400
TZNAME:EDT
DTSTART:20260308T070000
END:DAYLIGHT
BEGIN:STANDARD
TZOFFSETFROM:-0400
TZOFFSETTO:-0500
TZNAME:EST
DTSTART:20261101T060000
END:STANDARD
BEGIN:DAYLIGHT
TZOFFSETFROM:-0500
TZOFFSETTO:-0400
TZNAME:EDT
DTSTART:20270314T070000
END:DAYLIGHT
BEGIN:STANDARD
TZOFFSETFROM:-0400
TZOFFSETTO:-0500
TZNAME:EST
DTSTART:20271107T060000
END:STANDARD
END:VTIMEZONE
BEGIN:VTIMEZONE
TZID:UTC
BEGIN:STANDARD
TZOFFSETFROM:+0000
TZOFFSETTO:+0000
TZNAME:UTC
DTSTART:20240101T000000
END:STANDARD
END:VTIMEZONE
BEGIN:VEVENT
DTSTART;VALUE=DATE:20260416
DTEND;VALUE=DATE:20260420
DTSTAMP:20260421T171937
CREATED:20250713T133945Z
LAST-MODIFIED:20250713T133945Z
UID:10000030-1776297600-1776643199@fmer-remf.ca
SUMMARY:ICAM 2026: Ottawa -  International Congress on Academic Medicine
DESCRIPTION:
URL:https://fmer-remf.ca/event/icam-2026-ottawa-international-congress-on-academic-medicine/
LOCATION:ICAM Ottawa
CATEGORIES:Conference
ATTACH;FMTTYPE=image/jpeg:https://fmer-remf.ca/wp-content/uploads/ICAM-2026.jpg
END:VEVENT
BEGIN:VEVENT
DTSTART;VALUE=DATE:20260129
DTEND;VALUE=DATE:20260202
DTSTAMP:20260421T171937
CREATED:20250713T134512Z
LAST-MODIFIED:20250713T134555Z
UID:10000031-1769644800-1769990399@fmer-remf.ca
SUMMARY:STFM 2026: Charlotte\, NC - Conference on Medical Student Education
DESCRIPTION:
URL:https://fmer-remf.ca/event/stfm-2026-charlotte-nc-conference-on-medical-student-education/
LOCATION:STFM: Charlotte\, NC
CATEGORIES:Conference
ATTACH;FMTTYPE=image/jpeg:https://fmer-remf.ca/wp-content/uploads/STFM-2026.jpg
END:VEVENT
BEGIN:VEVENT
DTSTART;VALUE=DATE:20251121
DTEND;VALUE=DATE:20251126
DTSTAMP:20260421T171937
CREATED:20241130T162351Z
LAST-MODIFIED:20250109T191929Z
UID:10000007-1763683200-1764115199@fmer-remf.ca
SUMMARY:NAPCRG 2025: Atlanta\, Georgia - Annual Meeting
DESCRIPTION:
URL:https://fmer-remf.ca/event/napcrg-2025-atlanta-georgia-annual-meeting/
LOCATION:NAPCRG: Atlanta\, Atlanta\, United States
CATEGORIES:Conference
ATTACH;FMTTYPE=image/jpeg:https://fmer-remf.ca/wp-content/uploads/NAPCRG-2025-thumb.jpg
END:VEVENT
BEGIN:VEVENT
DTSTART;VALUE=DATE:20251105
DTEND;VALUE=DATE:20251109
DTSTAMP:20260421T171937
CREATED:20250829T051201Z
LAST-MODIFIED:20260218T214110Z
UID:10000037-1762300800-1762646399@fmer-remf.ca
SUMMARY:FMF 2025: Winnipeg\, Canada - Annual Meeting
DESCRIPTION:
URL:https://fmer-remf.ca/event/fmf-2025-winnipeg-canada-annual-meeting/
LOCATION:Winnipeg\, Manitoba\, Canada
CATEGORIES:Conference
ATTACH;FMTTYPE=image/jpeg:https://fmer-remf.ca/wp-content/uploads/FMF-Conference-Thumb.jpeg
END:VEVENT
BEGIN:VEVENT
DTSTART;VALUE=DATE:20250823
DTEND;VALUE=DATE:20250828
DTSTAMP:20260421T171937
CREATED:20241130T130132Z
LAST-MODIFIED:20241130T130135Z
UID:10000004-1755907200-1756339199@fmer-remf.ca
SUMMARY:AMEE 2025: Barcelona - How are educators relevant to health?
DESCRIPTION:
URL:https://fmer-remf.ca/event/amee-2025-barcelona-how-are-educators-relevant-to-health/
LOCATION:AMEE: Barcelona\, Barcelona\, Spain
CATEGORIES:Conference
ATTACH;FMTTYPE=image/png:https://fmer-remf.ca/wp-content/uploads/AMEE-Post-thumb.png
END:VEVENT
BEGIN:VEVENT
DTSTART;VALUE=DATE:20250602
DTEND;VALUE=DATE:20250604
DTSTAMP:20260421T171937
CREATED:20250109T192205Z
LAST-MODIFIED:20260218T214122Z
UID:10000013-1748822400-1748995199@fmer-remf.ca
SUMMARY:PBRN 2025: Reston\, Virginia - Practice-Based Research Network Conference
DESCRIPTION:
URL:https://fmer-remf.ca/event/pbrn-2025-reston-virginia-practice-based-research-network-conference/
LOCATION:PBRN: Virginia\, VA\, United States
CATEGORIES:Conference
ATTACH;FMTTYPE=image/jpeg:https://fmer-remf.ca/wp-content/uploads/NACPRG-June-2025.jpg
END:VEVENT
BEGIN:VEVENT
DTSTART;VALUE=DATE:20250403
DTEND;VALUE=DATE:20250407
DTSTAMP:20260421T171937
CREATED:20241130T161425Z
LAST-MODIFIED:20241130T161428Z
UID:10000006-1743638400-1743983999@fmer-remf.ca
SUMMARY:ICAM 2025: Halifax -  International Congress on Academic Medicine
DESCRIPTION:
URL:https://fmer-remf.ca/event/icam-2025-halifax-international-congress-on-academic-medicine/
LOCATION:ICAM Halifax\, Halifax\, Canada
CATEGORIES:Conference
ATTACH;FMTTYPE=image/jpeg:https://fmer-remf.ca/wp-content/uploads/ICAM-Event-Thumb.jpg
END:VEVENT
BEGIN:VEVENT
DTSTART;VALUE=DATE:20250130
DTEND;VALUE=DATE:20250203
DTSTAMP:20260421T171937
CREATED:20241130T231629Z
LAST-MODIFIED:20241130T231632Z
UID:10000009-1738195200-1738540799@fmer-remf.ca
SUMMARY:STFM 2025: San Antonio\, Texas - Conference on Medical Student Education
DESCRIPTION:
URL:https://fmer-remf.ca/event/stfm-2025-san-antonio-texas-conference-on-medical-student-education/
LOCATION:STFM; San Antonio\, San Antonio\, United States
CATEGORIES:Conference
ATTACH;FMTTYPE=image/jpeg:https://fmer-remf.ca/wp-content/uploads/STFM-Thumb.jpg
END:VEVENT
END:VCALENDAR