BEGIN:VCALENDAR
VERSION:2.0
PRODID:-//Family Medicine Education Research - ECPv6.15.20//NONSGML v1.0//EN
CALSCALE:GREGORIAN
METHOD:PUBLISH
X-WR-CALNAME:Family Medicine Education Research
X-ORIGINAL-URL:https://fmer-remf.ca
X-WR-CALDESC:Events for Family Medicine Education Research
REFRESH-INTERVAL;VALUE=DURATION:PT1H
X-Robots-Tag:noindex
X-PUBLISHED-TTL:PT1H
BEGIN:VTIMEZONE
TZID:UTC
BEGIN:STANDARD
TZOFFSETFROM:+0000
TZOFFSETTO:+0000
TZNAME:UTC
DTSTART:20240101T000000
END:STANDARD
END:VTIMEZONE
BEGIN:VEVENT
DTSTART;TZID=UTC:20250613T090000
DTEND;TZID=UTC:20250613T120000
DTSTAMP:20260422T003001
CREATED:20250315T080252Z
LAST-MODIFIED:20250315T080252Z
UID:10000026-1749805200-1749816000@fmer-remf.ca
SUMMARY:FMER-PRAM Crossroad Panel Discussions Panel #2 - Shared Decision-Making in Family Medicine Education and Practice
DESCRIPTION:
URL:https://fmer-remf.ca/event/fmer-pram-crossroad-panel-discussions-panel-2-shared-decision-making-in-family-medicine-education-and-practice/
LOCATION:McGill Faculty Club and Conference Center\, Billiard Room\, Montreal\, Canada
CATEGORIES:Panel Discussion
ATTACH;FMTTYPE=image/png:https://fmer-remf.ca/wp-content/uploads/Picture1-1.png
END:VEVENT
END:VCALENDAR