BEGIN:VCALENDAR
VERSION:2.0
PRODID:-//Family Medicine Education Research - ECPv6.15.20//NONSGML v1.0//EN
CALSCALE:GREGORIAN
METHOD:PUBLISH
X-WR-CALNAME:Family Medicine Education Research
X-ORIGINAL-URL:https://fmer-remf.ca/fr/
X-WR-CALDESC:Évènements pour Family Medicine Education Research
REFRESH-INTERVAL;VALUE=DURATION:PT1H
X-Robots-Tag:noindex
X-PUBLISHED-TTL:PT1H
BEGIN:VTIMEZONE
TZID:UTC
BEGIN:STANDARD
TZOFFSETFROM:+0000
TZOFFSETTO:+0000
TZNAME:UTC
DTSTART:20250101T000000
END:STANDARD
END:VTIMEZONE
BEGIN:VEVENT
DTSTART;TZID=UTC:20260217T123000
DTEND;TZID=UTC:20260217T133000
DTSTAMP:20260422T155318
CREATED:20251108T171016Z
LAST-MODIFIED:20251202T062252Z
UID:10000040-1771331400-1771335000@fmer-remf.ca
SUMMARY:Webinaire FMER sur la recherche avancée
DESCRIPTION:
URL:https://fmer-remf.ca/fr/event/webinaire-fmer-sur-la-recherche-avancee/
LOCATION:Zoom Webinar\, Canada
ATTACH;FMTTYPE=image/jpeg:https://fmer-remf.ca/wp-content/uploads/Posterthumb2.jpg
END:VEVENT
END:VCALENDAR