BEGIN:VCALENDAR
VERSION:2.0
PRODID:-//Family Medicine Education Research - ECPv6.15.20//NONSGML v1.0//EN
CALSCALE:GREGORIAN
METHOD:PUBLISH
X-WR-CALNAME:Family Medicine Education Research
X-ORIGINAL-URL:https://fmer-remf.ca/fr/
X-WR-CALDESC:Évènements pour Family Medicine Education Research
REFRESH-INTERVAL;VALUE=DURATION:PT1H
X-Robots-Tag:noindex
X-PUBLISHED-TTL:PT1H
BEGIN:VTIMEZONE
TZID:UTC
BEGIN:STANDARD
TZOFFSETFROM:+0000
TZOFFSETTO:+0000
TZNAME:UTC
DTSTART:20240101T000000
END:STANDARD
END:VTIMEZONE
BEGIN:VTIMEZONE
TZID:America/Toronto
BEGIN:DAYLIGHT
TZOFFSETFROM:-0500
TZOFFSETTO:-0400
TZNAME:EDT
DTSTART:20240310T070000
END:DAYLIGHT
BEGIN:STANDARD
TZOFFSETFROM:-0400
TZOFFSETTO:-0500
TZNAME:EST
DTSTART:20241103T060000
END:STANDARD
BEGIN:DAYLIGHT
TZOFFSETFROM:-0500
TZOFFSETTO:-0400
TZNAME:EDT
DTSTART:20250309T070000
END:DAYLIGHT
BEGIN:STANDARD
TZOFFSETFROM:-0400
TZOFFSETTO:-0500
TZNAME:EST
DTSTART:20251102T060000
END:STANDARD
BEGIN:DAYLIGHT
TZOFFSETFROM:-0500
TZOFFSETTO:-0400
TZNAME:EDT
DTSTART:20260308T070000
END:DAYLIGHT
BEGIN:STANDARD
TZOFFSETFROM:-0400
TZOFFSETTO:-0500
TZNAME:EST
DTSTART:20261101T060000
END:STANDARD
BEGIN:DAYLIGHT
TZOFFSETFROM:-0500
TZOFFSETTO:-0400
TZNAME:EDT
DTSTART:20270314T070000
END:DAYLIGHT
BEGIN:STANDARD
TZOFFSETFROM:-0400
TZOFFSETTO:-0500
TZNAME:EST
DTSTART:20271107T060000
END:STANDARD
END:VTIMEZONE
BEGIN:VEVENT
DTSTART;VALUE=DATE:20250602
DTEND;VALUE=DATE:20250604
DTSTAMP:20260421T141430
CREATED:20250109T192205Z
LAST-MODIFIED:20260218T214123Z
UID:10000017-1748822400-1748995199@fmer-remf.ca
SUMMARY:PBRN 2025: Reston\, Virginia - Practice-Based Research Network Conference
DESCRIPTION:
URL:https://fmer-remf.ca/fr/event/pbrn-2025-reston-virginia-practice-based-research-network-conference/
LOCATION:PBRN : Virginie\, VA\, United States
CATEGORIES:Conference
ATTACH;FMTTYPE=image/jpeg:https://fmer-remf.ca/wp-content/uploads/NACPRG-June-2025.jpg
END:VEVENT
BEGIN:VEVENT
DTSTART;TZID=UTC:20250818T090000
DTEND;TZID=UTC:20250818T170000
DTSTAMP:20260421T141430
CREATED:20250315T075210Z
LAST-MODIFIED:20250801T114945Z
UID:10000036-1755507600-1755536400@fmer-remf.ca
SUMMARY:Atelier : Comment planifier\, mener et rendre compte d'études mixtes * Événement en anglais
DESCRIPTION:
URL:https://fmer-remf.ca/fr/event/workshop-how-to-plan-conduct-and-report-mixed-studies-reviews/
LOCATION:Salle de classe n°304\, Département de médecine familiale\, Canada
CATEGORIES:Workshop
ATTACH;FMTTYPE=image/jpeg:https://fmer-remf.ca/wp-content/uploads/FMER-Workshop-Aug-18-2025-Event-Post-Image.jpg
END:VEVENT
BEGIN:VEVENT
DTSTART;VALUE=DATE:20250823
DTEND;VALUE=DATE:20250828
DTSTAMP:20260421T141430
CREATED:20241130T130132Z
LAST-MODIFIED:20250801T115215Z
UID:10000016-1755907200-1756339199@fmer-remf.ca
SUMMARY:AMEE 2025 : Barcelone - En quoi les éducateurs jouent-ils un rôle important dans le domaine de la santé ? * Événement en anglais
DESCRIPTION:
URL:https://fmer-remf.ca/fr/event/amee-2025-barcelona-how-are-educators-relevant-to-health/
LOCATION:AMEE : Barcelone\, Barcelone\, Spain
CATEGORIES:Conference
ATTACH;FMTTYPE=image/png:https://fmer-remf.ca/wp-content/uploads/AMEE-Post-thumb.png
END:VEVENT
BEGIN:VEVENT
DTSTART;VALUE=DATE:20251105
DTEND;VALUE=DATE:20251109
DTSTAMP:20260421T141430
CREATED:20250829T051201Z
LAST-MODIFIED:20250829T051201Z
UID:10000038-1762300800-1762646399@fmer-remf.ca
SUMMARY:FMF 2025 : Winnipeg\, Canada - Réunion annuelle * Événement en anglais
DESCRIPTION:
URL:https://fmer-remf.ca/fr/event/fmf-2025-winnipeg-canada-reunion-annuelle-evenement-en-anglais/
LOCATION:Winnipeg\, Manitoba\, Canada
ATTACH;FMTTYPE=image/jpeg:https://fmer-remf.ca/wp-content/uploads/FMF-Conference-Thumb.jpeg
END:VEVENT
BEGIN:VEVENT
DTSTART;VALUE=DATE:20251121
DTEND;VALUE=DATE:20251126
DTSTAMP:20260421T141430
CREATED:20241130T162351Z
LAST-MODIFIED:20250801T114801Z
UID:10000035-1763683200-1764115199@fmer-remf.ca
SUMMARY:NAPCRG 2025 : Atlanta\, Géorgie - Réunion annuelle * Événement en anglais
DESCRIPTION:
URL:https://fmer-remf.ca/fr/event/napcrg-2025-atlanta-georgia-annual-meeting/
LOCATION:NAPCRG : Atlanta\, Atlanta\, United States
CATEGORIES:Conference
ATTACH;FMTTYPE=image/jpeg:https://fmer-remf.ca/wp-content/uploads/NAPCRG-2025-thumb.jpg
END:VEVENT
BEGIN:VEVENT
DTSTART;VALUE=DATE:20260129
DTEND;VALUE=DATE:20260202
DTSTAMP:20260421T141430
CREATED:20250713T134512Z
LAST-MODIFIED:20250801T114501Z
UID:10000034-1769644800-1769990399@fmer-remf.ca
SUMMARY:STFM 2026 : Charlotte\, Caroline du Nord - Conférence sur la formation des étudiants en médecine * Événement en anglais
DESCRIPTION:
URL:https://fmer-remf.ca/fr/event/stfm-2026-charlotte-nc-conference-on-medical-student-education/
LOCATION:STFM: Charlotte\, NC
CATEGORIES:Conference
ATTACH;FMTTYPE=image/jpeg:https://fmer-remf.ca/wp-content/uploads/STFM-2026.jpg
END:VEVENT
BEGIN:VEVENT
DTSTART;TZID=UTC:20260217T123000
DTEND;TZID=UTC:20260217T133000
DTSTAMP:20260421T141430
CREATED:20251108T171016Z
LAST-MODIFIED:20251202T062252Z
UID:10000040-1771331400-1771335000@fmer-remf.ca
SUMMARY:Webinaire FMER sur la recherche avancée
DESCRIPTION:
URL:https://fmer-remf.ca/fr/event/webinaire-fmer-sur-la-recherche-avancee/
LOCATION:Zoom Webinar\, Canada
ATTACH;FMTTYPE=image/jpeg:https://fmer-remf.ca/wp-content/uploads/Posterthumb2.jpg
END:VEVENT
BEGIN:VEVENT
DTSTART;TZID=UTC:20260327T083000
DTEND;TZID=UTC:20260327T123000
DTSTAMP:20260421T141430
CREATED:20260218T214542Z
LAST-MODIFIED:20260220T140500Z
UID:10000046-1774600200-1774614600@fmer-remf.ca
SUMMARY:La prise de décision partagée en éducation et en pratique : relever le défi
DESCRIPTION:Série\n2025–2026 Faculty Development Annual Series\n\n\nPresenter\nDr. Roland Grad\, MDCM MSc FCFP\n\n\nDescription\nEnseigner la prise de décision partagée aux résidents consiste à présenter les concepts clés et les approches pédagogiques\, à utiliser des outils d’évaluation pour mesurer les compétences par l’observation et les discussions entre pairs\, et à développer des stratégies pour intégrer et maintenir ces outils dans l’enseignement clinique. Cet atelier aidera les médecins enseignants à améliorer leur enseignement de la prise de décision partagée\, ainsi qu’à renforcer leurs méthodes d’évaluation de la compétence des résidents en matière de prise de décision partagée.\n\n\nObjectifs d’apprentissage\n1. Décrire les concepts clés et les approches curriculaires pour enseigner la prise de décision partagée aux résidents.2. Appliquer un outil d’évaluation pour mesurer la compétence des résidents en matière de prise de décision partagée par l’observation et la discussion entre pairs.3. Développer des stratégies pour intégrer et maintenir l’utilisation d’un outil d’évaluation dans l’enseignement clinique.\n\n\nDate\nvendredi le 27 mars 2026\n\n\nHeure\n8:30 AM – 12:30 PM\n\n\nLieu\nDépartement de médecine de famille5858\, chemin de la Côte-des-Neiges3ème étage\, salle 307\n\n\nInscription\nPlaces limitées — inscrivez-vous tôt. Inscription: inscription\n\n\nInformation supplémentaire\nUn déjeuner-réseautage sera servi à partir de 8h30.\n\n\nCertification\nCette activité a été certifiée pour 3 crédits Mainpro+®.
URL:https://fmer-remf.ca/fr/event/la-prise-de-decision-partagee-en-education-et-en-pratique-relever-le-defi/
LOCATION:Department of Family Medicine\, 5858\, chemin de la Côte-des-Neiges\, 3rd floor\, Room 307\, Montreal\, Quebec
CATEGORIES:Workshop
ATTACH;FMTTYPE=image/jpeg:https://fmer-remf.ca/wp-content/uploads/Shared-Decision-Making-workshopthumbEN3.jpg
END:VEVENT
BEGIN:VEVENT
DTSTART;VALUE=DATE:20260416
DTEND;VALUE=DATE:20260420
DTSTAMP:20260421T141430
CREATED:20250713T133945Z
LAST-MODIFIED:20250801T114410Z
UID:10000033-1776297600-1776643199@fmer-remf.ca
SUMMARY:ICAM 2026 : Ottawa - Congrès international sur la médecine universitaire * Événement en anglais
DESCRIPTION:
URL:https://fmer-remf.ca/fr/event/icam-2026-ottawa-international-congress-on-academic-medicine/
LOCATION:ICAM Ottawa
CATEGORIES:Conference
ATTACH;FMTTYPE=image/jpeg:https://fmer-remf.ca/wp-content/uploads/ICAM-2026.jpg
END:VEVENT
BEGIN:VEVENT
DTSTART;TZID=UTC:20260428T123000
DTEND;TZID=UTC:20260428T133000
DTSTAMP:20260421T141430
CREATED:20260121T162632Z
LAST-MODIFIED:20260121T162632Z
UID:10000044-1777379400-1777383000@fmer-remf.ca
SUMMARY:Webinaire FMER sur la recherche avancée
DESCRIPTION:
URL:https://fmer-remf.ca/fr/event/webinaire-fmer-sur-la-recherche-avancee-2/
LOCATION:Zoom Webinar\, Canada
ATTACH;FMTTYPE=image/jpeg:https://fmer-remf.ca/wp-content/uploads/FMER-Webinar-Dec-2025-Event-thumbv2-1.jpg
END:VEVENT
BEGIN:VEVENT
DTSTART;VALUE=DATE:20260822
DTEND;VALUE=DATE:20260827
DTSTAMP:20260421T141430
CREATED:20251112T193801Z
LAST-MODIFIED:20251112T193801Z
UID:10000042-1787356800-1787788799@fmer-remf.ca
SUMMARY:AMEE 2026: Vienna\, Austria
DESCRIPTION:
URL:https://fmer-remf.ca/fr/event/amee-2026-vienna-austria/
LOCATION:AMEE: Vienna\, Austria
ATTACH;FMTTYPE=image/png:https://fmer-remf.ca/wp-content/uploads/AMEE2026-1.png
END:VEVENT
BEGIN:VEVENT
DTSTART;VALUE=DATE:20261120
DTEND;VALUE=DATE:20261125
DTSTAMP:20260421T141430
CREATED:20250713T132801Z
LAST-MODIFIED:20250801T114212Z
UID:10000032-1795132800-1795564799@fmer-remf.ca
SUMMARY:NAPCRG 2026 : Toronto\, Ontario\, Canada - Réunion annuelle * Événement en anglais
DESCRIPTION:
URL:https://fmer-remf.ca/fr/event/napcrg-2026-toronto-ontario-canada-annual-meeting/
LOCATION:Toronto\, Ontario\, Canada
CATEGORIES:Conference
ATTACH;FMTTYPE=image/jpeg:https://fmer-remf.ca/wp-content/uploads/NAPCRG-2026.jpg
END:VEVENT
END:VCALENDAR