BEGIN:VCALENDAR
VERSION:2.0
PRODID:-//Family Medicine Education Research - ECPv6.15.20//NONSGML v1.0//EN
CALSCALE:GREGORIAN
METHOD:PUBLISH
X-WR-CALNAME:Family Medicine Education Research
X-ORIGINAL-URL:https://fmer-remf.ca/fr/
X-WR-CALDESC:Évènements pour Family Medicine Education Research
REFRESH-INTERVAL;VALUE=DURATION:PT1H
X-Robots-Tag:noindex
X-PUBLISHED-TTL:PT1H
BEGIN:VTIMEZONE
TZID:America/Toronto
BEGIN:DAYLIGHT
TZOFFSETFROM:-0500
TZOFFSETTO:-0400
TZNAME:EDT
DTSTART:20220313T070000
END:DAYLIGHT
BEGIN:STANDARD
TZOFFSETFROM:-0400
TZOFFSETTO:-0500
TZNAME:EST
DTSTART:20221106T060000
END:STANDARD
BEGIN:DAYLIGHT
TZOFFSETFROM:-0500
TZOFFSETTO:-0400
TZNAME:EDT
DTSTART:20230312T070000
END:DAYLIGHT
BEGIN:STANDARD
TZOFFSETFROM:-0400
TZOFFSETTO:-0500
TZNAME:EST
DTSTART:20231105T060000
END:STANDARD
BEGIN:DAYLIGHT
TZOFFSETFROM:-0500
TZOFFSETTO:-0400
TZNAME:EDT
DTSTART:20240310T070000
END:DAYLIGHT
BEGIN:STANDARD
TZOFFSETFROM:-0400
TZOFFSETTO:-0500
TZNAME:EST
DTSTART:20241103T060000
END:STANDARD
BEGIN:DAYLIGHT
TZOFFSETFROM:-0500
TZOFFSETTO:-0400
TZNAME:EDT
DTSTART:20250309T070000
END:DAYLIGHT
BEGIN:STANDARD
TZOFFSETFROM:-0400
TZOFFSETTO:-0500
TZNAME:EST
DTSTART:20251102T060000
END:STANDARD
END:VTIMEZONE
BEGIN:VEVENT
DTSTART;TZID=America/Toronto:20241126T123000
DTEND;TZID=America/Toronto:20241126T133000
DTSTAMP:20260421T210445
CREATED:20241130T123445Z
LAST-MODIFIED:20241130T123445Z
UID:10000022-1732624200-1732627800@fmer-remf.ca
SUMMARY:FMER Advanced Research Webinar: The Three Talk Model of Shared Decision Making ... Simple yet Complex
DESCRIPTION:
URL:https://fmer-remf.ca/fr/event/fmer-advanced-research-webinar-the-three-talk-model-of-shared-decision-making-simple-yet-complex/
LOCATION:Zoom Webinar\, Canada
ATTACH;FMTTYPE=image/jpeg:https://fmer-remf.ca/wp-content/uploads/FMER-Webinar-Nov-2024-Eng-New-Format-Nov-Final-thumb2.jpg
END:VEVENT
BEGIN:VEVENT
DTSTART;TZID=America/Toronto:20240924T123000
DTEND;TZID=America/Toronto:20240924T133000
DTSTAMP:20260421T210445
CREATED:20241130T125044Z
LAST-MODIFIED:20241130T125044Z
UID:10000023-1727181000-1727184600@fmer-remf.ca
SUMMARY:2023-2024 Récipiendaire du « Prix international Pierre Pluye pour une thèse de doctorat utilisant des méthodes mixtes dans la recherche en éducation en médecine familiale »
DESCRIPTION:
URL:https://fmer-remf.ca/fr/event/2023-2024-recipiendaire-du-prix-international-pierre-pluye-pour-une-these-de-doctorat-utilisant-des-methodes-mixtes-dans-la-recherche-en-education-en-medecine-familiale/
LOCATION:Zoom Webinar\, Canada
ATTACH;FMTTYPE=image/jpeg:https://fmer-remf.ca/wp-content/uploads/FMER-Webinar-Sep-2024-French-V5-email-web.jpg
END:VEVENT
BEGIN:VEVENT
DTSTART;TZID=America/Toronto:20230929T123000
DTEND;TZID=America/Toronto:20230929T133000
DTSTAMP:20260421T210445
CREATED:20230826T120250Z
LAST-MODIFIED:20230826T120250Z
UID:10000024-1695990600-1695994200@fmer-remf.ca
SUMMARY:FMER Advanced Research Webinar: The Role of Interprofessional Collaborative Practice (IPCP) among Primary Health Care Providers in Malnutrition in the Elderly​
DESCRIPTION:
URL:https://fmer-remf.ca/fr/event/fmer-advanced-research-webinar-the-role-of-interprofessional-collaborative-practice-ipcp-among-primary-health-care-providers-in-malnutrition-in-the-elderly/
LOCATION:Zoom Webinar\, Canada
ATTACH;FMTTYPE=image/jpeg:https://fmer-remf.ca/wp-content/uploads/FMER-Webinar-Sept-2023-Eng-V2-Final-16-9-scaled.jpg
END:VEVENT
END:VCALENDAR