BEGIN:VCALENDAR
VERSION:2.0
PRODID:-//Family Medicine Education Research - ECPv6.15.20//NONSGML v1.0//EN
CALSCALE:GREGORIAN
METHOD:PUBLISH
X-WR-CALNAME:Family Medicine Education Research
X-ORIGINAL-URL:https://fmer-remf.ca/fr/
X-WR-CALDESC:Évènements pour Family Medicine Education Research
REFRESH-INTERVAL;VALUE=DURATION:PT1H
X-Robots-Tag:noindex
X-PUBLISHED-TTL:PT1H
BEGIN:VTIMEZONE
TZID:UTC
BEGIN:STANDARD
TZOFFSETFROM:+0000
TZOFFSETTO:+0000
TZNAME:UTC
DTSTART:20240101T000000
END:STANDARD
END:VTIMEZONE
BEGIN:VEVENT
DTSTART;TZID=UTC:20250818T090000
DTEND;TZID=UTC:20250818T170000
DTSTAMP:20260421T232814
CREATED:20250315T075210Z
LAST-MODIFIED:20250801T114945Z
UID:10000036-1755507600-1755536400@fmer-remf.ca
SUMMARY:Atelier : Comment planifier\, mener et rendre compte d'études mixtes * Événement en anglais
DESCRIPTION:
URL:https://fmer-remf.ca/fr/event/workshop-how-to-plan-conduct-and-report-mixed-studies-reviews/
LOCATION:Salle de classe n°304\, Département de médecine familiale\, Canada
CATEGORIES:Workshop
ATTACH;FMTTYPE=image/jpeg:https://fmer-remf.ca/wp-content/uploads/FMER-Workshop-Aug-18-2025-Event-Post-Image.jpg
END:VEVENT
END:VCALENDAR